BEGIN:VCALENDAR
VERSION:2.0
PRODID:spatie/icalendar-generator
DESCRIPTION:Veranstaltungen von Stadtsportverband Salzkotten
X-WR-CALDESC:Veranstaltungen von Stadtsportverband Salzkotten
REFRESH-INTERVAL;VALUE=DURATION:PT1440M
X-PUBLISHED-TTL:PT1440M
BEGIN:VTIMEZONE
TZID:Europe/Berlin
BEGIN:DAYLIGHT
DTSTART:20260329T020000Z
TZOFFSETFROM:+0100
TZOFFSETTO:+0200
END:DAYLIGHT
BEGIN:STANDARD
DTSTART:20261025T030000Z
TZOFFSETFROM:+0200
TZOFFSETTO:+0100
END:STANDARD
END:VTIMEZONE
BEGIN:VTIMEZONE
TZID:UTC
BEGIN:STANDARD
DTSTART:20250725T225141Z
TZOFFSETFROM:+0000
TZOFFSETTO:+0000
END:STANDARD
END:VTIMEZONE
BEGIN:VEVENT
UID:35-34
DTSTAMP:20260421T225141Z
SUMMARY:Sportangebot HAF
LOCATION:Sälzerwiese Salzkotten Sälzerstraße  Salzkotten  33154
ORGANIZER;CN=DavidSp:MAILTO:davidspenner@t-online.de
DTSTART;TZID=Europe/Berlin;VALUE=DATE:20260828
DTEND;TZID=Europe/Berlin;VALUE=DATE:20260831
X-ALT-DESC;FMTTYPE=TEXT/HTML:Die Salzkottener Sportvereine bieten verschied
 ene Sportangebote rund um die Sälzerwiese und entlang der Heder an. Weite
 re Informationen folgen.
CATEGORIES:Allgemein
URL;VALUE=URI:https://www.stadtsportverband-salzkotten.de/mc-events/sportan
 gebot-haf/
METHOD:PUBLISH
END:VEVENT
END:VCALENDAR