BEGIN:VCALENDAR
VERSION:2.0
PRODID:spatie/icalendar-generator
DESCRIPTION:Veranstaltungen von Stadtsportverband Salzkotten
X-WR-CALDESC:Veranstaltungen von Stadtsportverband Salzkotten
REFRESH-INTERVAL;VALUE=DURATION:PT1440M
X-PUBLISHED-TTL:PT1440M
BEGIN:VTIMEZONE
TZID:Europe/Berlin
BEGIN:STANDARD
DTSTART:20251026T030000Z
TZOFFSETFROM:+0200
TZOFFSETTO:+0100
END:STANDARD
BEGIN:DAYLIGHT
DTSTART:20260329T020000Z
TZOFFSETFROM:+0100
TZOFFSETTO:+0200
END:DAYLIGHT
BEGIN:STANDARD
DTSTART:20261025T030000Z
TZOFFSETFROM:+0200
TZOFFSETTO:+0100
END:STANDARD
END:VTIMEZONE
BEGIN:VTIMEZONE
TZID:UTC
BEGIN:STANDARD
DTSTART:20250725T160210Z
TZOFFSETFROM:+0000
TZOFFSETTO:+0000
END:STANDARD
END:VTIMEZONE
BEGIN:VEVENT
UID:36-35
DTSTAMP:20260421T160210Z
SUMMARY:Schwimmabzeichen &amp;amp\; Sportabzeichen
LOCATION:Sälzer Lagune Alte Bleiche 10  Salzkotten  33154
ORGANIZER;CN=DavidSp:MAILTO:davidspenner@t-online.de
DTSTART;TZID=Europe/Berlin:20260613T100000
DTEND;TZID=Europe/Berlin:20260613T170000
X-ALT-DESC;FMTTYPE=TEXT/HTML:Am 13.06. öffnet ohne Eintritt das Freibad S
 älzer Lagune für alle\, die das Schwimmabzeichen für das Sportabzeichen
  ablegen wollen. Ebenso kann auch das komplette Sportabzeichen abgelegt we
 rden. Nach Ablegen der Diszilplinen ist das Freibad wieder zu verlassen.
CATEGORIES:Allgemein
URL;VALUE=URI:https://www.stadtsportverband-salzkotten.de/mc-events/schwimm
 abzeichen-sportabzeichen/
METHOD:PUBLISH
END:VEVENT
END:VCALENDAR